flight 131438 xen-unstable-coverity real [real]
http://logs.test-lab.xenproject.org/osstest/logs/131438/

Perfect :-)
All tests in this flight passed as required
version targeted for testing:
 xen                  f60658c6ae47e74792e6cc48ea2effac8bb52826
baseline version:
 xen                  a9c904c5a827144eb722cfb46634c60b739e19eb

Last test of basis   131264  2018-12-12 09:19:04 Z    7 days
Failing since        131349  2018-12-16 09:19:36 Z    3 days    2 attempts
Testing same since   131438  2018-12-19 09:19:19 Z    0 days    1 attempts

------------------------------------------------------------
People who touched revisions under test:
  Andrew Cooper <[email protected]>
  Andrii Anisov <[email protected]>
  Brian Woods <[email protected]>
  Ian Jackson <[email protected]>
  Jan Beulich <[email protected]>
  Juergen Gross <[email protected]>
  Julien Grall <[email protected]>
  Matthew Daley <[email protected]>
  Paul Durrant <[email protected]>
  Razvan Cojocaru <[email protected]>
  Shameer Kolothum <[email protected]>
  Stefano Stabellini <[email protected]>

jobs:
 coverity-amd64                                               pass    


------------------------------------------------------------
sg-report-flight on osstest.test-lab.xenproject.org
logs: /home/logs/logs
images: /home/logs/images

Logs, config files, etc. are available at
    http://logs.test-lab.xenproject.org/osstest/logs

Explanation of these reports, and of osstest in general, is at
    http://xenbits.xen.org/gitweb/?p=osstest.git;a=blob;f=README.email;hb=master
    http://xenbits.xen.org/gitweb/?p=osstest.git;a=blob;f=README;hb=master

Test harness code can be found at
    http://xenbits.xen.org/gitweb?p=osstest.git;a=summary


Pushing revision :

To xenbits.xen.org:/home/xen/git/xen.git
   a9c904c5a8..f60658c6ae  f60658c6ae47e74792e6cc48ea2effac8bb52826 -> 
coverity-tested/smoke

_______________________________________________
Xen-devel mailing list
[email protected]
https://lists.xenproject.org/mailman/listinfo/xen-devel

Reply via email to