flight 139250 freebsd-master real [real]
http://logs.test-lab.xenproject.org/osstest/logs/139250/

Perfect :-)
All tests in this flight passed as required
version targeted for testing:
 freebsd              133ea4fff43567cfeae6c032ac202656c6108db3
baseline version:
 freebsd              37af220308d220ce946683e1a2e80b352fb9e856

Last test of basis   139159  2019-07-19 09:19:38 Z    3 days
Testing same since   139250  2019-07-22 09:19:36 Z    0 days    1 attempts

------------------------------------------------------------
People who touched revisions under test:
  alc <[email protected]>
  asomers <[email protected]>
  brooks <[email protected]>
  cem <[email protected]>
  dim <[email protected]>
  dougm <[email protected]>
  ganbold <[email protected]>
  ian <[email protected]>
  imp <[email protected]>
  jhb <[email protected]>
  jhibbits <[email protected]>
  kib <[email protected]>
  manu <[email protected]>
  markj <[email protected]>
  mav <[email protected]>
  mckusick <[email protected]>
  rene <[email protected]>

jobs:
 build-amd64-freebsd-again                                    pass    
 build-amd64-freebsd                                          pass    
 build-amd64-xen-freebsd                                      pass    


------------------------------------------------------------
sg-report-flight on osstest.test-lab.xenproject.org
logs: /home/logs/logs
images: /home/logs/images

Logs, config files, etc. are available at
    http://logs.test-lab.xenproject.org/osstest/logs

Explanation of these reports, and of osstest in general, is at
    http://xenbits.xen.org/gitweb/?p=osstest.git;a=blob;f=README.email;hb=master
    http://xenbits.xen.org/gitweb/?p=osstest.git;a=blob;f=README;hb=master

Test harness code can be found at
    http://xenbits.xen.org/gitweb?p=osstest.git;a=summary


Pushing revision :

To xenbits.xen.org:/home/xen/git/freebsd.git
   37af220308d..133ea4fff43  133ea4fff43567cfeae6c032ac202656c6108db3 -> 
tested/master

_______________________________________________
Xen-devel mailing list
[email protected]
https://lists.xenproject.org/mailman/listinfo/xen-devel

Reply via email to