flight 139614 ovmf real [real]
http://logs.test-lab.xenproject.org/osstest/logs/139614/

Perfect :-)
All tests in this flight passed as required
version targeted for testing:
 ovmf                 83d6207f99021ac9b2990fc9d66bab3cb3ae5f26
baseline version:
 ovmf                 d21e5dbbbf11589113d39619b3e01eb1e8966819

Last test of basis   139571  2019-07-31 16:39:07 Z    1 days
Failing since        139588  2019-08-01 08:41:09 Z    0 days    3 attempts
Testing same since   139614  2019-08-01 21:39:41 Z    0 days    1 attempts

------------------------------------------------------------
People who touched revisions under test:
  Bob Feng <[email protected]>
  Feng, Bob C <[email protected]>
  Krzysztof Koch <[email protected]>
  Matthew Carlson <[email protected]>
  Max Knutsen <[email protected]>
  Sean Brogan <[email protected]>
  Zhiju.Fan <[email protected]>

jobs:
 build-amd64-xsm                                              pass    
 build-i386-xsm                                               pass    
 build-amd64                                                  pass    
 build-i386                                                   pass    
 build-amd64-libvirt                                          pass    
 build-i386-libvirt                                           pass    
 build-amd64-pvops                                            pass    
 build-i386-pvops                                             pass    
 test-amd64-amd64-xl-qemuu-ovmf-amd64                         pass    
 test-amd64-i386-xl-qemuu-ovmf-amd64                          pass    


------------------------------------------------------------
sg-report-flight on osstest.test-lab.xenproject.org
logs: /home/logs/logs
images: /home/logs/images

Logs, config files, etc. are available at
    http://logs.test-lab.xenproject.org/osstest/logs

Explanation of these reports, and of osstest in general, is at
    http://xenbits.xen.org/gitweb/?p=osstest.git;a=blob;f=README.email;hb=master
    http://xenbits.xen.org/gitweb/?p=osstest.git;a=blob;f=README;hb=master

Test harness code can be found at
    http://xenbits.xen.org/gitweb?p=osstest.git;a=summary


Pushing revision :

To xenbits.xen.org:/home/xen/git/osstest/ovmf.git
   d21e5dbbbf..83d6207f99  83d6207f99021ac9b2990fc9d66bab3cb3ae5f26 -> 
xen-tested-master

_______________________________________________
Xen-devel mailing list
[email protected]
https://lists.xenproject.org/mailman/listinfo/xen-devel

Reply via email to