flight 139861 freebsd-master real [real]
http://logs.test-lab.xenproject.org/osstest/logs/139861/

Perfect :-)
All tests in this flight passed as required
version targeted for testing:
 freebsd              d3d0bd153cf3e76effd2e9e8c66a847d1c5defe3
baseline version:
 freebsd              37b420014fdd0f6e1ea5aecd05f04ed0a33fa5b7

Last test of basis   139801  2019-08-07 09:20:46 Z    2 days
Testing same since   139861  2019-08-09 09:20:02 Z    0 days    1 attempts

------------------------------------------------------------
People who touched revisions under test:
  ae <[email protected]>
  alc <[email protected]>
  asomers <[email protected]>
  avg <[email protected]>
  bz <[email protected]>
  cem <[email protected]>
  delphij <[email protected]>
  dim <[email protected]>
  emaste <[email protected]>
  glebius <[email protected]>
  hselasky <[email protected]>
  imp <[email protected]>
  jhibbits <[email protected]>
  jtl <[email protected]>
  kib <[email protected]>
  lwhsu <[email protected]>
  manu <[email protected]>
  markj <[email protected]>
  mav <[email protected]>
  mckusick <[email protected]>
  mw <[email protected]>
  oshogbo <[email protected]>
  rmacklem <[email protected]>
  thj <[email protected]>
  trasz <[email protected]>
  tsoome <[email protected]>
  tuexen <[email protected]>

jobs:
 build-amd64-freebsd-again                                    pass    
 build-amd64-freebsd                                          pass    
 build-amd64-xen-freebsd                                      pass    


------------------------------------------------------------
sg-report-flight on osstest.test-lab.xenproject.org
logs: /home/logs/logs
images: /home/logs/images

Logs, config files, etc. are available at
    http://logs.test-lab.xenproject.org/osstest/logs

Explanation of these reports, and of osstest in general, is at
    http://xenbits.xen.org/gitweb/?p=osstest.git;a=blob;f=README.email;hb=master
    http://xenbits.xen.org/gitweb/?p=osstest.git;a=blob;f=README;hb=master

Test harness code can be found at
    http://xenbits.xen.org/gitweb?p=osstest.git;a=summary


Pushing revision :

To xenbits.xen.org:/home/xen/git/freebsd.git
   37b420014fd..d3d0bd153cf  d3d0bd153cf3e76effd2e9e8c66a847d1c5defe3 -> 
tested/master

_______________________________________________
Xen-devel mailing list
[email protected]
https://lists.xenproject.org/mailman/listinfo/xen-devel

Reply via email to