flight 149630 xen-unstable-coverity real [real]
http://logs.test-lab.xenproject.org/osstest/logs/149630/

Perfect :-)
All tests in this flight passed as required
version targeted for testing:
 xen                  7372466b21c3b6c96bb7a52754e432bac883a1e3
baseline version:
 xen                  e013e8514389b739153016349e49f5a78e34ddf0

Last test of basis   149517  2020-04-08 09:19:14 Z    4 days
Testing same since   149630  2020-04-12 09:19:20 Z    0 days    1 attempts

------------------------------------------------------------
People who touched revisions under test:
  Andrew Cooper <[email protected]>
  Andrew Panyakin <[email protected]>
  Dmitry Isaykin <[email protected]>
  Jan Beulich <[email protected]>
  Julien Grall <[email protected]>
  Tamas K Lengyel <[email protected]>
  Tamas K Lengyel <[email protected]>
  Wei Liu <[email protected]>

jobs:
 coverity-amd64                                               pass    


------------------------------------------------------------
sg-report-flight on osstest.test-lab.xenproject.org
logs: /home/logs/logs
images: /home/logs/images

Logs, config files, etc. are available at
    http://logs.test-lab.xenproject.org/osstest/logs

Explanation of these reports, and of osstest in general, is at
    http://xenbits.xen.org/gitweb/?p=osstest.git;a=blob;f=README.email;hb=master
    http://xenbits.xen.org/gitweb/?p=osstest.git;a=blob;f=README;hb=master

Test harness code can be found at
    http://xenbits.xen.org/gitweb?p=osstest.git;a=summary


Pushing revision :

To xenbits.xen.org:/home/xen/git/xen.git
   e013e85143..7372466b21  7372466b21c3b6c96bb7a52754e432bac883a1e3 -> 
coverity-tested/smoke

Reply via email to