flight 153169 xen-unstable-coverity real [real]
http://logs.test-lab.xenproject.org/osstest/logs/153169/

Perfect :-)
All tests in this flight passed as required
version targeted for testing:
 xen                  d400dc5729e4e132d61c2e7df57d81aaed762044
baseline version:
 xen                  7a8d8bde9820387c3e168182b99fd9761c223fff

Last test of basis   152854  2020-08-26 09:18:24 Z    4 days
Testing same since   153169  2020-08-30 09:18:24 Z    0 days    1 attempts

------------------------------------------------------------
People who touched revisions under test:
  Andrew Cooper <[email protected]>
  Costin Lupu <[email protected]>
  Hubert Jasudowicz <[email protected]>
  Ian Jackson <[email protected]>
  Ian Jackson <[email protected]>
  Jan Beulich <[email protected]>
  Juergen Gross <[email protected]>
  Julien Grall <[email protected]>
  Marek Marczykowski-Górecki <[email protected]>
  Paul Durrant <[email protected]>
  Roger Pau Monné <[email protected]>
  Wei Liu <[email protected]>

jobs:
 coverity-amd64                                               pass    


------------------------------------------------------------
sg-report-flight on osstest.test-lab.xenproject.org
logs: /home/logs/logs
images: /home/logs/images

Logs, config files, etc. are available at
    http://logs.test-lab.xenproject.org/osstest/logs

Explanation of these reports, and of osstest in general, is at
    http://xenbits.xen.org/gitweb/?p=osstest.git;a=blob;f=README.email;hb=master
    http://xenbits.xen.org/gitweb/?p=osstest.git;a=blob;f=README;hb=master

Test harness code can be found at
    http://xenbits.xen.org/gitweb?p=osstest.git;a=summary


Pushing revision :

To xenbits.xen.org:/home/xen/git/xen.git
   7a8d8bde98..d400dc5729  d400dc5729e4e132d61c2e7df57d81aaed762044 -> 
coverity-tested/smoke

Reply via email to