flight 153755 qemu-mainline real [real]
http://logs.test-lab.xenproject.org/osstest/logs/153755/

Failures and problems with tests :-(

Tests which did not succeed and are blocking,
including tests which could not be run:
 build-amd64                     <job status>                 broken
 build-amd64-pvops               <job status>                 broken
 build-amd64-xsm                 <job status>                 broken
 build-arm64                     <job status>                 broken
 build-arm64-pvops               <job status>                 broken
 build-arm64-xsm                 <job status>                 broken
 build-armhf                     <job status>                 broken
 build-armhf-pvops               <job status>                 broken
 build-i386                      <job status>                 broken
 build-i386-pvops                <job status>                 broken
 build-i386-xsm                  <job status>                 broken
 build-amd64                   2 hosts-allocate         broken REGR. vs. 152631
 build-amd64-pvops             2 hosts-allocate         broken REGR. vs. 152631
 build-arm64                   2 hosts-allocate         broken REGR. vs. 152631
 build-amd64-xsm               2 hosts-allocate         broken REGR. vs. 152631
 build-armhf                   2 hosts-allocate         broken REGR. vs. 152631
 build-arm64-xsm               2 hosts-allocate         broken REGR. vs. 152631
 build-armhf-pvops             2 hosts-allocate         broken REGR. vs. 152631
 build-i386                    2 hosts-allocate         broken REGR. vs. 152631
 build-i386-pvops              2 hosts-allocate         broken REGR. vs. 152631
 build-i386-xsm                2 hosts-allocate         broken REGR. vs. 152631
 build-arm64-pvops             2 hosts-allocate         broken REGR. vs. 152631

Tests which did not succeed, but are not blocking:
 test-armhf-armhf-xl-multivcpu  1 build-check(1)               blocked  n/a
 test-armhf-armhf-xl-rtds      1 build-check(1)               blocked  n/a
 test-armhf-armhf-xl-vhd       1 build-check(1)               blocked  n/a
 test-amd64-i386-pair          1 build-check(1)               blocked  n/a
 test-amd64-i386-libvirt-xsm   1 build-check(1)               blocked  n/a
 test-amd64-i386-libvirt-qemuu-debianhvm-amd64-xsm 1 build-check(1) blocked n/a
 test-amd64-i386-libvirt-pair  1 build-check(1)               blocked  n/a
 test-amd64-i386-libvirt       1 build-check(1)               blocked  n/a
 test-amd64-i386-freebsd10-i386  1 build-check(1)               blocked  n/a
 test-amd64-i386-freebsd10-amd64  1 build-check(1)               blocked  n/a
 test-amd64-coresched-i386-xl  1 build-check(1)               blocked  n/a
 test-amd64-coresched-amd64-xl  1 build-check(1)               blocked  n/a
 test-amd64-amd64-xl-xsm       1 build-check(1)               blocked  n/a
 test-amd64-amd64-xl-shadow    1 build-check(1)               blocked  n/a
 test-amd64-amd64-xl-rtds      1 build-check(1)               blocked  n/a
 build-amd64-libvirt           1 build-check(1)               blocked  n/a
 test-amd64-amd64-xl-qemuu-ws16-amd64  1 build-check(1)             blocked n/a
 test-amd64-amd64-xl-qemuu-win7-amd64  1 build-check(1)             blocked n/a
 build-arm64-libvirt           1 build-check(1)               blocked  n/a
 test-amd64-amd64-xl-qemuu-ovmf-amd64  1 build-check(1)             blocked n/a
 test-amd64-amd64-xl-qemuu-dmrestrict-amd64-dmrestrict 1 build-check(1) blocked 
n/a
 build-armhf-libvirt           1 build-check(1)               blocked  n/a
 test-amd64-amd64-xl-qemuu-debianhvm-i386-xsm  1 build-check(1)     blocked n/a
 test-amd64-amd64-xl-qemuu-debianhvm-amd64-shadow  1 build-check(1) blocked n/a
 build-i386-libvirt            1 build-check(1)               blocked  n/a
 test-amd64-amd64-xl-qemuu-debianhvm-amd64  1 build-check(1)        blocked n/a
 test-amd64-amd64-amd64-pvgrub  1 build-check(1)               blocked  n/a
 test-amd64-amd64-xl-qcow2     1 build-check(1)               blocked  n/a
 test-amd64-amd64-dom0pvh-xl-amd  1 build-check(1)               blocked  n/a
 test-amd64-amd64-dom0pvh-xl-intel  1 build-check(1)               blocked  n/a
 test-amd64-amd64-xl-pvshim    1 build-check(1)               blocked  n/a
 test-amd64-amd64-i386-pvgrub  1 build-check(1)               blocked  n/a
 test-amd64-amd64-libvirt      1 build-check(1)               blocked  n/a
 test-amd64-amd64-xl-pvhv2-intel  1 build-check(1)               blocked  n/a
 test-amd64-amd64-libvirt-pair  1 build-check(1)               blocked  n/a
 test-amd64-amd64-libvirt-qemuu-debianhvm-amd64-xsm 1 build-check(1) blocked n/a
 test-amd64-amd64-xl-pvhv2-amd  1 build-check(1)               blocked  n/a
 test-amd64-amd64-libvirt-vhd  1 build-check(1)               blocked  n/a
 test-amd64-amd64-libvirt-xsm  1 build-check(1)               blocked  n/a
 test-amd64-amd64-xl-multivcpu  1 build-check(1)               blocked  n/a
 test-amd64-amd64-pair         1 build-check(1)               blocked  n/a
 test-amd64-amd64-pygrub       1 build-check(1)               blocked  n/a
 test-amd64-amd64-xl-credit2   1 build-check(1)               blocked  n/a
 test-amd64-amd64-qemuu-freebsd11-amd64  1 build-check(1)           blocked n/a
 test-amd64-amd64-qemuu-freebsd12-amd64  1 build-check(1)           blocked n/a
 test-amd64-amd64-xl-credit1   1 build-check(1)               blocked  n/a
 test-amd64-amd64-qemuu-nested-amd  1 build-check(1)               blocked  n/a
 test-amd64-amd64-qemuu-nested-intel  1 build-check(1)              blocked n/a
 test-amd64-amd64-xl           1 build-check(1)               blocked  n/a
 test-armhf-armhf-xl-credit2   1 build-check(1)               blocked  n/a
 test-armhf-armhf-xl-cubietruck  1 build-check(1)               blocked  n/a
 test-amd64-i386-qemuu-rhel6hvm-amd  1 build-check(1)               blocked n/a
 test-amd64-i386-qemuu-rhel6hvm-intel  1 build-check(1)             blocked n/a
 test-amd64-i386-xl            1 build-check(1)               blocked  n/a
 test-amd64-i386-xl-pvshim     1 build-check(1)               blocked  n/a
 test-amd64-i386-xl-qemuu-debianhvm-amd64  1 build-check(1)         blocked n/a
 test-amd64-i386-xl-qemuu-debianhvm-amd64-shadow  1 build-check(1)  blocked n/a
 test-amd64-i386-xl-qemuu-debianhvm-i386-xsm  1 build-check(1)      blocked n/a
 test-amd64-i386-xl-qemuu-dmrestrict-amd64-dmrestrict 1 build-check(1) blocked 
n/a
 test-amd64-i386-xl-qemuu-ovmf-amd64  1 build-check(1)              blocked n/a
 test-amd64-i386-xl-qemuu-win7-amd64  1 build-check(1)              blocked n/a
 test-amd64-i386-xl-qemuu-ws16-amd64  1 build-check(1)              blocked n/a
 test-amd64-i386-xl-raw        1 build-check(1)               blocked  n/a
 test-amd64-i386-xl-shadow     1 build-check(1)               blocked  n/a
 test-amd64-i386-xl-xsm        1 build-check(1)               blocked  n/a
 test-arm64-arm64-libvirt-xsm  1 build-check(1)               blocked  n/a
 test-arm64-arm64-xl           1 build-check(1)               blocked  n/a
 test-arm64-arm64-xl-credit1   1 build-check(1)               blocked  n/a
 test-arm64-arm64-xl-credit2   1 build-check(1)               blocked  n/a
 test-arm64-arm64-xl-seattle   1 build-check(1)               blocked  n/a
 test-arm64-arm64-xl-thunderx  1 build-check(1)               blocked  n/a
 test-arm64-arm64-xl-xsm       1 build-check(1)               blocked  n/a
 test-armhf-armhf-libvirt      1 build-check(1)               blocked  n/a
 test-armhf-armhf-libvirt-raw  1 build-check(1)               blocked  n/a
 test-armhf-armhf-xl           1 build-check(1)               blocked  n/a
 test-armhf-armhf-xl-arndale   1 build-check(1)               blocked  n/a
 test-armhf-armhf-xl-credit1   1 build-check(1)               blocked  n/a

version targeted for testing:
 qemuu                1133ce5ec9674d594a84fad2696adc30d292a234
baseline version:
 qemuu                1d806cef0e38b5db8347a8e12f214d543204a314

Last test of basis   152631  2020-08-20 09:07:46 Z   16 days
Failing since        152659  2020-08-21 14:07:39 Z   15 days   46 attempts
Testing same since   153740  2020-09-05 02:15:15 Z    0 days    3 attempts

------------------------------------------------------------
People who touched revisions under test:
  Alberto Garcia <[email protected]>
  Alex Bennée <[email protected]>
  Alexander Bulekov <[email protected]>
  Alistair Francis <[email protected]>
  Alistair Francis <[email protected]>
  Andrey Konovalov <[email protected]>
  Andrey Shinkevich <[email protected]>
  Ani Sinha <[email protected]>
  Anthony PERARD <[email protected]>
  Anton Blanchard <[email protected]>
  Anup Patel <[email protected]>
  Babu Moger <[email protected]>
  Bin Meng <[email protected]>
  Bruce Rogers <[email protected]>
  Carlo Marcelo Arenas Belón <[email protected]>
  Chen Gang <[email protected]>
  Chen Qun <[email protected]>
  Chih-Min Chao <[email protected]>
  Christian Borntraeger <[email protected]>
  Christian Schoenebeck <[email protected]>
  Cornelia Huck <[email protected]>
  Cédric Le Goater <[email protected]>
  César Belley <[email protected]>
  Daniel Henrique Barboza <[email protected]>
  Daniel P. Berrangé <[email protected]>
  David Gibson <[email protected]>
  Dr. David Alan Gilbert <[email protected]>
  Edgar E. Iglesias <[email protected]>
  Eduardo Habkost <[email protected]>
  Eric Auger <[email protected]>
  Eric Blake <[email protected]>
  Erik Smit <[email protected]>
  Fam Zheng <[email protected]>
  Filip Bozuta <[email protected]>
  Frank Chang <[email protected]>
  Gerd Hoffmann <[email protected]>
  Gonglei <[email protected]>
  Graeme Gregory <[email protected]>
  Greg Kurz <[email protected]>
  Gustavo Romero <[email protected]>
  Han Han <[email protected]>
  Helge Deller <[email protected]>
  Heyi Guo <[email protected]>
  Hongzheng-Li <[email protected]>
  Hou Weiying <[email protected]>
  Igor Kononenko <[email protected]>
  Igor Mammedov <[email protected]>
  Joel Stanley <[email protected]>
  Keith Busch <[email protected]>
  Kenta Ishiguro <[email protected]>
  Kevin Wolf <[email protected]>
  Kito Cheng <[email protected]>
  Klaus Jensen <[email protected]>
  Klaus Jensen <[email protected]>
  Laurent Vivier <[email protected]>
  Laurent Vivier <[email protected]>
  Leif Lindholm <[email protected]>
  Li Qiang <[email protected]>
  Liao Pingfang <[email protected]>
  Liao Pingfang <[email protected]>a
  Lijun Pan <[email protected]>
  LIU Zhiwei <[email protected]>
  Longpeng(Mike) <[email protected]>
  Marc-André Lureau <[email protected]>
  Mark Cave-Ayland <[email protected]>
  Markus Armbruster <[email protected]>
  Matthieu Bucchianeri <[email protected]>
  Max Filippov <[email protected]>
  Max Reitz <[email protected]>
  Michael S. Tsirkin <[email protected]>
  Michal Privoznik <[email protected]>
  Mike Gelfand <[email protected]>
  Myriad-Dreamin <[email protected]>
  Niek Linnenbank <[email protected]>
  Pan Nengyuan <[email protected]>
  Paolo Bonzini <[email protected]>
  Paul Burton <[email protected]>
  Peter Maydell <[email protected]>
  Peter Xu <[email protected]>
  Philippe Mathieu-Daudé <[email protected]>
  Philippe Mathieu-Daudé <[email protected]>
  Richard Henderson <[email protected]>
  Roman Bolshakov <[email protected]>
  Sai Pavan Boddu <[email protected]>
  Sergio Lopez <[email protected]>
  Stefan Hajnoczi <[email protected]>
  Stefan Weil <[email protected]>
  Stefano Garzarella <[email protected]>
  Stephen Long <[email protected]>
  Sven Schnelle <[email protected]>
  Thomas Huth <[email protected]>
  Thomas Huth <[email protected]>
  Tianjia Zhang <[email protected]>
  Vitaly Cheptsov <[email protected]>
  Vivek Goyal <[email protected]>
  Vladimir Sementsov-Ogievskiy <[email protected]>
  Volker Rümelin <[email protected]>
  Yi Wang <[email protected]>
  Ying Fang <[email protected]>
  Yonggang Luo <[email protected]>
  Zhenyu Ye <[email protected]>
  Zong Li <[email protected]>

jobs:
 build-amd64-xsm                                              broken  
 build-arm64-xsm                                              broken  
 build-i386-xsm                                               broken  
 build-amd64                                                  broken  
 build-arm64                                                  broken  
 build-armhf                                                  broken  
 build-i386                                                   broken  
 build-amd64-libvirt                                          blocked 
 build-arm64-libvirt                                          blocked 
 build-armhf-libvirt                                          blocked 
 build-i386-libvirt                                           blocked 
 build-amd64-pvops                                            broken  
 build-arm64-pvops                                            broken  
 build-armhf-pvops                                            broken  
 build-i386-pvops                                             broken  
 test-amd64-amd64-xl                                          blocked 
 test-amd64-coresched-amd64-xl                                blocked 
 test-arm64-arm64-xl                                          blocked 
 test-armhf-armhf-xl                                          blocked 
 test-amd64-i386-xl                                           blocked 
 test-amd64-coresched-i386-xl                                 blocked 
 test-amd64-amd64-libvirt-qemuu-debianhvm-amd64-xsm           blocked 
 test-amd64-i386-libvirt-qemuu-debianhvm-amd64-xsm            blocked 
 test-amd64-amd64-xl-qemuu-debianhvm-i386-xsm                 blocked 
 test-amd64-i386-xl-qemuu-debianhvm-i386-xsm                  blocked 
 test-amd64-amd64-libvirt-xsm                                 blocked 
 test-arm64-arm64-libvirt-xsm                                 blocked 
 test-amd64-i386-libvirt-xsm                                  blocked 
 test-amd64-amd64-xl-xsm                                      blocked 
 test-arm64-arm64-xl-xsm                                      blocked 
 test-amd64-i386-xl-xsm                                       blocked 
 test-amd64-amd64-qemuu-nested-amd                            blocked 
 test-amd64-amd64-xl-pvhv2-amd                                blocked 
 test-amd64-i386-qemuu-rhel6hvm-amd                           blocked 
 test-amd64-amd64-dom0pvh-xl-amd                              blocked 
 test-amd64-amd64-xl-qemuu-debianhvm-amd64                    blocked 
 test-amd64-i386-xl-qemuu-debianhvm-amd64                     blocked 
 test-amd64-i386-freebsd10-amd64                              blocked 
 test-amd64-amd64-qemuu-freebsd11-amd64                       blocked 
 test-amd64-amd64-qemuu-freebsd12-amd64                       blocked 
 test-amd64-amd64-xl-qemuu-ovmf-amd64                         blocked 
 test-amd64-i386-xl-qemuu-ovmf-amd64                          blocked 
 test-amd64-amd64-xl-qemuu-win7-amd64                         blocked 
 test-amd64-i386-xl-qemuu-win7-amd64                          blocked 
 test-amd64-amd64-xl-qemuu-ws16-amd64                         blocked 
 test-amd64-i386-xl-qemuu-ws16-amd64                          blocked 
 test-armhf-armhf-xl-arndale                                  blocked 
 test-amd64-amd64-xl-credit1                                  blocked 
 test-arm64-arm64-xl-credit1                                  blocked 
 test-armhf-armhf-xl-credit1                                  blocked 
 test-amd64-amd64-xl-credit2                                  blocked 
 test-arm64-arm64-xl-credit2                                  blocked 
 test-armhf-armhf-xl-credit2                                  blocked 
 test-armhf-armhf-xl-cubietruck                               blocked 
 test-amd64-amd64-xl-qemuu-dmrestrict-amd64-dmrestrict        blocked 
 test-amd64-i386-xl-qemuu-dmrestrict-amd64-dmrestrict         blocked 
 test-amd64-i386-freebsd10-i386                               blocked 
 test-amd64-amd64-qemuu-nested-intel                          blocked 
 test-amd64-amd64-xl-pvhv2-intel                              blocked 
 test-amd64-i386-qemuu-rhel6hvm-intel                         blocked 
 test-amd64-amd64-dom0pvh-xl-intel                            blocked 
 test-amd64-amd64-libvirt                                     blocked 
 test-armhf-armhf-libvirt                                     blocked 
 test-amd64-i386-libvirt                                      blocked 
 test-amd64-amd64-xl-multivcpu                                blocked 
 test-armhf-armhf-xl-multivcpu                                blocked 
 test-amd64-amd64-pair                                        blocked 
 test-amd64-i386-pair                                         blocked 
 test-amd64-amd64-libvirt-pair                                blocked 
 test-amd64-i386-libvirt-pair                                 blocked 
 test-amd64-amd64-amd64-pvgrub                                blocked 
 test-amd64-amd64-i386-pvgrub                                 blocked 
 test-amd64-amd64-xl-pvshim                                   blocked 
 test-amd64-i386-xl-pvshim                                    blocked 
 test-amd64-amd64-pygrub                                      blocked 
 test-amd64-amd64-xl-qcow2                                    blocked 
 test-armhf-armhf-libvirt-raw                                 blocked 
 test-amd64-i386-xl-raw                                       blocked 
 test-amd64-amd64-xl-rtds                                     blocked 
 test-armhf-armhf-xl-rtds                                     blocked 
 test-arm64-arm64-xl-seattle                                  blocked 
 test-amd64-amd64-xl-qemuu-debianhvm-amd64-shadow             blocked 
 test-amd64-i386-xl-qemuu-debianhvm-amd64-shadow              blocked 
 test-amd64-amd64-xl-shadow                                   blocked 
 test-amd64-i386-xl-shadow                                    blocked 
 test-arm64-arm64-xl-thunderx                                 blocked 
 test-amd64-amd64-libvirt-vhd                                 blocked 
 test-armhf-armhf-xl-vhd                                      blocked 


------------------------------------------------------------
sg-report-flight on osstest.test-lab.xenproject.org
logs: /home/logs/logs
images: /home/logs/images

Logs, config files, etc. are available at
    http://logs.test-lab.xenproject.org/osstest/logs

Explanation of these reports, and of osstest in general, is at
    http://xenbits.xen.org/gitweb/?p=osstest.git;a=blob;f=README.email;hb=master
    http://xenbits.xen.org/gitweb/?p=osstest.git;a=blob;f=README;hb=master

Test harness code can be found at
    http://xenbits.xen.org/gitweb?p=osstest.git;a=summary

broken-job build-amd64 broken
broken-job build-amd64-pvops broken
broken-job build-amd64-xsm broken
broken-job build-arm64 broken
broken-job build-arm64-pvops broken
broken-job build-arm64-xsm broken
broken-job build-armhf broken
broken-job build-armhf-pvops broken
broken-job build-i386 broken
broken-job build-i386-pvops broken
broken-job build-i386-xsm broken
broken-step build-amd64 hosts-allocate
broken-step build-amd64-pvops hosts-allocate
broken-step build-arm64 hosts-allocate
broken-step build-amd64-xsm hosts-allocate
broken-step build-armhf hosts-allocate
broken-step build-arm64-xsm hosts-allocate
broken-step build-armhf-pvops hosts-allocate
broken-step build-i386 hosts-allocate
broken-step build-i386-pvops hosts-allocate
broken-step build-i386-xsm hosts-allocate
broken-step build-arm64-pvops hosts-allocate

Not pushing.

(No revision log; it would be 16429 lines long.)

Reply via email to