flight 154380 xen-unstable-coverity real [real] http://logs.test-lab.xenproject.org/osstest/logs/154380/
Perfect :-) All tests in this flight passed as required version targeted for testing: xen 51526576219f122ec7ccfd55dea95afbca70d330 baseline version: xen 6c5fb129e88b9c06b5fd62a410163ebb8ef77ee6 Last test of basis 154260 2020-09-13 09:20:39 Z 3 days Testing same since 154380 2020-09-16 09:19:21 Z 0 days 1 attempts ------------------------------------------------------------ People who touched revisions under test: Andrew Cooper <[email protected]> Don Slutz <[email protected]> Jan Beulich <[email protected]> Juergen Gross <[email protected]> Marek Marczykowski-Górecki <[email protected]> Roger Pau Monné <[email protected]> Wei Liu <[email protected]> jobs: coverity-amd64 pass ------------------------------------------------------------ sg-report-flight on osstest.test-lab.xenproject.org logs: /home/logs/logs images: /home/logs/images Logs, config files, etc. are available at http://logs.test-lab.xenproject.org/osstest/logs Explanation of these reports, and of osstest in general, is at http://xenbits.xen.org/gitweb/?p=osstest.git;a=blob;f=README.email;hb=master http://xenbits.xen.org/gitweb/?p=osstest.git;a=blob;f=README;hb=master Test harness code can be found at http://xenbits.xen.org/gitweb?p=osstest.git;a=summary Pushing revision : To xenbits.xen.org:/home/xen/git/xen.git 6c5fb129e8..5152657621 51526576219f122ec7ccfd55dea95afbca70d330 -> coverity-tested/smoke
