flight 155448 xen-unstable-coverity real [real]
http://logs.test-lab.xenproject.org/osstest/logs/155448/

Perfect :-)
All tests in this flight passed as required
version targeted for testing:
 xen                  8ef6345ef557cc2c47298217635a3088eaa59893
baseline version:
 xen                  5dba8c2f23049aa68b777a9e7e9f76c12dd00012

Last test of basis   155131  2020-09-30 09:18:28 Z    4 days
Testing same since   155448  2020-10-04 09:18:26 Z    0 days    1 attempts

------------------------------------------------------------
People who touched revisions under test:
  Andrew Cooper <[email protected]>
  Anthony PERARD <[email protected]>
  Jan Beulich <[email protected]>
  Jason Andryuk <[email protected]>
  Juergen Gross <[email protected]>
  Julien Grall <[email protected]>
  Laurentiu Tudor <[email protected]>
  Olaf Hering <[email protected]>
  Paul Durrant <[email protected]>
  Paul Durrant <[email protected]>
  Roger Pau MonnĂ© <[email protected]>
  Trammell Hudson <[email protected]>
  Wei Liu <[email protected]>

jobs:
 coverity-amd64                                               pass    


------------------------------------------------------------
sg-report-flight on osstest.test-lab.xenproject.org
logs: /home/logs/logs
images: /home/logs/images

Logs, config files, etc. are available at
    http://logs.test-lab.xenproject.org/osstest/logs

Explanation of these reports, and of osstest in general, is at
    http://xenbits.xen.org/gitweb/?p=osstest.git;a=blob;f=README.email;hb=master
    http://xenbits.xen.org/gitweb/?p=osstest.git;a=blob;f=README;hb=master

Test harness code can be found at
    http://xenbits.xen.org/gitweb?p=osstest.git;a=summary


Pushing revision :

To xenbits.xen.org:/home/xen/git/xen.git
   5dba8c2f23..8ef6345ef5  8ef6345ef557cc2c47298217635a3088eaa59893 -> 
coverity-tested/smoke

Reply via email to