flight 156879 ovmf real [real] http://logs.test-lab.xenproject.org/osstest/logs/156879/
Perfect :-) All tests in this flight passed as required version targeted for testing: ovmf 6c8dd15c4ae42501438a525ec41299f365f223cb baseline version: ovmf 6c4efc050974812d6ebee1cea711e3c81e4e4442 Last test of basis 156869 2020-11-19 02:39:50 Z 0 days Testing same since 156879 2020-11-19 11:39:56 Z 0 days 1 attempts ------------------------------------------------------------ People who touched revisions under test: Bob Feng <[email protected]> Nishant C Mistry <[email protected]> Nishant Mistry <[email protected]> jobs: build-amd64-xsm pass build-i386-xsm pass build-amd64 pass build-i386 pass build-amd64-libvirt pass build-i386-libvirt pass build-amd64-pvops pass build-i386-pvops pass test-amd64-amd64-xl-qemuu-ovmf-amd64 pass test-amd64-i386-xl-qemuu-ovmf-amd64 pass ------------------------------------------------------------ sg-report-flight on osstest.test-lab.xenproject.org logs: /home/logs/logs images: /home/logs/images Logs, config files, etc. are available at http://logs.test-lab.xenproject.org/osstest/logs Explanation of these reports, and of osstest in general, is at http://xenbits.xen.org/gitweb/?p=osstest.git;a=blob;f=README.email;hb=master http://xenbits.xen.org/gitweb/?p=osstest.git;a=blob;f=README;hb=master Test harness code can be found at http://xenbits.xen.org/gitweb?p=osstest.git;a=summary Pushing revision : To xenbits.xen.org:/home/xen/git/osstest/ovmf.git 6c4efc0509..6c8dd15c4a 6c8dd15c4ae42501438a525ec41299f365f223cb -> xen-tested-master
