flight 157602 xen-unstable-coverity real [real] http://logs.test-lab.xenproject.org/osstest/logs/157602/
Perfect :-) All tests in this flight passed as required version targeted for testing: xen 904148ecb4a59d4c8375d8e8d38117b8605e10ac baseline version: xen 8e0fe4fe5fd89d80a362d8a9a46726aded3b49c4 Last test of basis 157492 2020-12-13 09:18:28 Z 3 days Testing same since 157602 2020-12-16 09:18:30 Z 0 days 1 attempts ------------------------------------------------------------ People who touched revisions under test: Andrew Cooper <[email protected]> Christian Lindig <[email protected]> Edwin Török <[email protected]> Harsha Shamsundara Havanur <[email protected]> Jan Beulich <[email protected]> Juergen Gross <[email protected]> Julien Grall <[email protected]> Julien Grall <[email protected]> Manuel Bouyer <[email protected]> Roger Pau Monné <[email protected]> jobs: coverity-amd64 pass ------------------------------------------------------------ sg-report-flight on osstest.test-lab.xenproject.org logs: /home/logs/logs images: /home/logs/images Logs, config files, etc. are available at http://logs.test-lab.xenproject.org/osstest/logs Explanation of these reports, and of osstest in general, is at http://xenbits.xen.org/gitweb/?p=osstest.git;a=blob;f=README.email;hb=master http://xenbits.xen.org/gitweb/?p=osstest.git;a=blob;f=README;hb=master Test harness code can be found at http://xenbits.xen.org/gitweb?p=osstest.git;a=summary Pushing revision : To xenbits.xen.org:/home/xen/git/xen.git 8e0fe4fe5f..904148ecb4 904148ecb4a59d4c8375d8e8d38117b8605e10ac -> coverity-tested/smoke
