flight 157708 ovmf real [real] http://logs.test-lab.xenproject.org/osstest/logs/157708/
Perfect :-) All tests in this flight passed as required version targeted for testing: ovmf 1159fc3230aee02acc60aa245ce047217fd8b87e baseline version: ovmf f95e80d832e923046c92cd6f0b8208cec147138e Last test of basis 157345 2020-12-09 12:40:46 Z 10 days Failing since 157348 2020-12-09 15:39:39 Z 10 days 54 attempts Testing same since 157708 2020-12-18 22:09:58 Z 0 days 1 attempts ------------------------------------------------------------ People who touched revisions under test: Abner Chang <[email protected]> Ard Biesheuvel <[email protected]> Baraneedharan Anbazhagan <[email protected]> Baraneedharan Anbazhagan <[email protected]> Borghorst, Hendrik via groups.io <[email protected]> Bret Barkelew <[email protected]> Chen, Christine <[email protected]> Fan Wang <[email protected]> Hendrik Borghorst <[email protected]> James Bottomley <[email protected]> James Bottomley <[email protected]> Jiaxin Wu <[email protected]> Laszlo Ersek <[email protected]> Leif Lindholm <[email protected]> Marc Moisson-Franckhauser <[email protected]> Michael D Kinney <[email protected]> Michael Kubacki <[email protected]> Pierre Gondois <[email protected]> Quan Nguyen <[email protected]> Ray Ni <[email protected]> Rebecca Cran <[email protected]> Sami Mujawar <[email protected]> Sean Brogan <[email protected]> Sheng Wei <[email protected]> Siyuan Fu <[email protected]> Star Zeng <[email protected]> Ting Ye <[email protected]> Yuwei Chen <[email protected]> jobs: build-amd64-xsm pass build-i386-xsm pass build-amd64 pass build-i386 pass build-amd64-libvirt pass build-i386-libvirt pass build-amd64-pvops pass build-i386-pvops pass test-amd64-amd64-xl-qemuu-ovmf-amd64 pass test-amd64-i386-xl-qemuu-ovmf-amd64 pass ------------------------------------------------------------ sg-report-flight on osstest.test-lab.xenproject.org logs: /home/logs/logs images: /home/logs/images Logs, config files, etc. are available at http://logs.test-lab.xenproject.org/osstest/logs Explanation of these reports, and of osstest in general, is at http://xenbits.xen.org/gitweb/?p=osstest.git;a=blob;f=README.email;hb=master http://xenbits.xen.org/gitweb/?p=osstest.git;a=blob;f=README;hb=master Test harness code can be found at http://xenbits.xen.org/gitweb?p=osstest.git;a=summary Pushing revision : To xenbits.xen.org:/home/xen/git/osstest/ovmf.git f95e80d832..1159fc3230 1159fc3230aee02acc60aa245ce047217fd8b87e -> xen-tested-master
