flight 157738 xen-unstable-coverity real [real] http://logs.test-lab.xenproject.org/osstest/logs/157738/
Perfect :-) All tests in this flight passed as required version targeted for testing: xen 357db96a66e47e609c3b14768f1062e13eedbd93 baseline version: xen 904148ecb4a59d4c8375d8e8d38117b8605e10ac Last test of basis 157602 2020-12-16 09:18:30 Z 4 days Testing same since 157738 2020-12-20 09:20:06 Z 0 days 1 attempts ------------------------------------------------------------ People who touched revisions under test: Andrew Cooper <[email protected]> Christian Lindig <[email protected]> Elliott Mitchell <[email protected]> Jan Beulich <[email protected]> Juergen Gross <[email protected]> Julien Grall <[email protected]> Luca Fancellu <[email protected]> Nick Rosbrook <[email protected]> Olaf Hering <[email protected]> Paul Durrant <[email protected]> Stefano Stabellini <[email protected]> Stefano Stabellini <[email protected]> Wei Liu <[email protected]> jobs: coverity-amd64 pass ------------------------------------------------------------ sg-report-flight on osstest.test-lab.xenproject.org logs: /home/logs/logs images: /home/logs/images Logs, config files, etc. are available at http://logs.test-lab.xenproject.org/osstest/logs Explanation of these reports, and of osstest in general, is at http://xenbits.xen.org/gitweb/?p=osstest.git;a=blob;f=README.email;hb=master http://xenbits.xen.org/gitweb/?p=osstest.git;a=blob;f=README;hb=master Test harness code can be found at http://xenbits.xen.org/gitweb?p=osstest.git;a=summary Pushing revision : To xenbits.xen.org:/home/xen/git/xen.git 904148ecb4..357db96a66 357db96a66e47e609c3b14768f1062e13eedbd93 -> coverity-tested/smoke
