flight 158472 xen-unstable-coverity real [real]
http://logs.test-lab.xenproject.org/osstest/logs/158472/

Perfect :-)
All tests in this flight passed as required
version targeted for testing:
 xen                  db9c4ad1b1abaef3c38027b9b2700d9250d13125
baseline version:
 xen                  414be7b66349e7dca42bc1fd47c2b2f5b2d27432

Last test of basis   158404  2021-01-13 09:20:27 Z    4 days
Testing same since   158472  2021-01-17 09:19:26 Z    0 days    1 attempts

------------------------------------------------------------
People who touched revisions under test:
  Andrew Cooper <[email protected]>
  Christopher Clark <[email protected]>
  Ian Jackson <[email protected]>
  Jan Beulich <[email protected]>
  Juergen Gross <[email protected]>
  Julien Grall <[email protected]>
  Manuel Bouyer <[email protected]>
  Olaf Hering <[email protected]>
  Stefano Stabellini <[email protected]>
  Stefano Stabellini <[email protected]>
  Tamas K Lengyel <[email protected]>
  Tamas K Lengyel <[email protected]>
  Wei Chen <[email protected]>
  Wei Liu <[email protected]>

jobs:
 coverity-amd64                                               pass    


------------------------------------------------------------
sg-report-flight on osstest.test-lab.xenproject.org
logs: /home/logs/logs
images: /home/logs/images

Logs, config files, etc. are available at
    http://logs.test-lab.xenproject.org/osstest/logs

Explanation of these reports, and of osstest in general, is at
    http://xenbits.xen.org/gitweb/?p=osstest.git;a=blob;f=README.email;hb=master
    http://xenbits.xen.org/gitweb/?p=osstest.git;a=blob;f=README;hb=master

Test harness code can be found at
    http://xenbits.xen.org/gitweb?p=osstest.git;a=summary


Pushing revision :

To xenbits.xen.org:/home/xen/git/xen.git
   414be7b663..db9c4ad1b1  db9c4ad1b1abaef3c38027b9b2700d9250d13125 -> 
coverity-tested/smoke

Reply via email to