flight 159300 ovmf real [real]
http://logs.test-lab.xenproject.org/osstest/logs/159300/

Perfect :-)
All tests in this flight passed as required
version targeted for testing:
 ovmf                 2e1e8c35f3178df95d79da81ac6deec242da74c2
baseline version:
 ovmf                 1d27e58e401faea284309039f3962cb3cb4549fc

Last test of basis   159248  2021-02-11 10:27:56 Z    2 days
Testing same since   159300  2021-02-12 14:25:09 Z    0 days    1 attempts

------------------------------------------------------------
People who touched revisions under test:
  Guo Dong <[email protected]>
  Joey Gouly <[email protected]>
  Patrick Rudolph <[email protected]>
  Tim Crawford <[email protected]>

jobs:
 build-amd64-xsm                                              pass    
 build-i386-xsm                                               pass    
 build-amd64                                                  pass    
 build-i386                                                   pass    
 build-amd64-libvirt                                          pass    
 build-i386-libvirt                                           pass    
 build-amd64-pvops                                            pass    
 build-i386-pvops                                             pass    
 test-amd64-amd64-xl-qemuu-ovmf-amd64                         pass    
 test-amd64-i386-xl-qemuu-ovmf-amd64                          pass    


------------------------------------------------------------
sg-report-flight on osstest.test-lab.xenproject.org
logs: /home/logs/logs
images: /home/logs/images

Logs, config files, etc. are available at
    http://logs.test-lab.xenproject.org/osstest/logs

Explanation of these reports, and of osstest in general, is at
    http://xenbits.xen.org/gitweb/?p=osstest.git;a=blob;f=README.email;hb=master
    http://xenbits.xen.org/gitweb/?p=osstest.git;a=blob;f=README;hb=master

Test harness code can be found at
    http://xenbits.xen.org/gitweb?p=osstest.git;a=summary


Pushing revision :

To xenbits.xen.org:/home/xen/git/osstest/ovmf.git
   1d27e58e40..2e1e8c35f3  2e1e8c35f3178df95d79da81ac6deec242da74c2 -> 
xen-tested-master

Reply via email to