flight 160967 xen-unstable-coverity real [real]
http://logs.test-lab.xenproject.org/osstest/logs/160967/

Perfect :-)
All tests in this flight passed as required
version targeted for testing:
 xen                  935d501ccbf5b8c4db1f6d0730a4a4c998e9e76a
baseline version:
 xen                  19be4d56a1f7aa65eb4d92276fa5d386e9cb2a62

Last test of basis   160790  2021-04-07 09:18:32 Z    4 days
Testing same since   160967  2021-04-11 09:18:29 Z    0 days    1 attempts

------------------------------------------------------------
People who touched revisions under test:
  Andrew Cooper <[email protected]>
  Boris Ostrovsky <[email protected]>
  Ian Jackson <[email protected]>
  Jan Beulich <[email protected]>
  Juergen Gross <[email protected]>
  Julien Grall <[email protected]>
  Rahul Singh <[email protected]>
  Roger Pau MonnĂ© <[email protected]>
  Tim Deegan <[email protected]>

jobs:
 coverity-amd64                                               pass    


------------------------------------------------------------
sg-report-flight on osstest.test-lab.xenproject.org
logs: /home/logs/logs
images: /home/logs/images

Logs, config files, etc. are available at
    http://logs.test-lab.xenproject.org/osstest/logs

Explanation of these reports, and of osstest in general, is at
    http://xenbits.xen.org/gitweb/?p=osstest.git;a=blob;f=README.email;hb=master
    http://xenbits.xen.org/gitweb/?p=osstest.git;a=blob;f=README;hb=master

Test harness code can be found at
    http://xenbits.xen.org/gitweb?p=osstest.git;a=summary


Pushing revision :

To xenbits.xen.org:/home/xen/git/xen.git
   19be4d56a1..935d501ccb  935d501ccbf5b8c4db1f6d0730a4a4c998e9e76a -> 
coverity-tested/smoke

Reply via email to