flight 123187 ovmf real [real]
http://logs.test-lab.xenproject.org/osstest/logs/123187/

Perfect :-)
All tests in this flight passed as required
version targeted for testing:
 ovmf                 7dc7c7435e9030ad07ad7bc7d136a3997bd0b182
baseline version:
 ovmf                 77ca824c652443bdf3edaa0bb109fd8225a71cd3

Last test of basis   123101  2018-05-23 13:36:05 Z    2 days
Testing same since   123187  2018-05-24 21:25:14 Z    1 days    1 attempts

------------------------------------------------------------
People who touched revisions under test:
  Eric Dong <[email protected]>
  Laszlo Ersek <[email protected]>
  Marvin Haeuser <[email protected]>
  Marvin Häuser <[email protected]>

jobs:
 build-amd64-xsm                                              pass    
 build-i386-xsm                                               pass    
 build-amd64                                                  pass    
 build-i386                                                   pass    
 build-amd64-libvirt                                          pass    
 build-i386-libvirt                                           pass    
 build-amd64-pvops                                            pass    
 build-i386-pvops                                             pass    
 test-amd64-amd64-xl-qemuu-ovmf-amd64                         pass    
 test-amd64-i386-xl-qemuu-ovmf-amd64                          pass    


------------------------------------------------------------
sg-report-flight on osstest.test-lab.xenproject.org
logs: /home/logs/logs
images: /home/logs/images

Logs, config files, etc. are available at
    http://logs.test-lab.xenproject.org/osstest/logs

Explanation of these reports, and of osstest in general, is at
    http://xenbits.xen.org/gitweb/?p=osstest.git;a=blob;f=README.email;hb=master
    http://xenbits.xen.org/gitweb/?p=osstest.git;a=blob;f=README;hb=master

Test harness code can be found at
    http://xenbits.xen.org/gitweb?p=osstest.git;a=summary


Pushing revision :

To xenbits.xen.org:/home/xen/git/osstest/ovmf.git
   77ca824c65..7dc7c7435e  7dc7c7435e9030ad07ad7bc7d136a3997bd0b182 -> 
xen-tested-master

_______________________________________________
Xen-devel mailing list
[email protected]
https://lists.xenproject.org/mailman/listinfo/xen-devel

Reply via email to