flight 135384 libvirt running [real]
http://logs.test-lab.xenproject.org/osstest/logs/135384/

Failures and problems with tests :-(

Tests which did not succeed and are blocking,
including tests which could not be run:
 build-amd64                     <job status>                 broken
 build-i386                      <job status>                 broken
 build-i386-pvops                <job status>                 broken
 build-arm64-pvops               <job status>                 broken
 build-i386-xsm                  <job status>                 broken
 build-arm64-xsm                 <job status>                 broken
 build-arm64                     <job status>                 broken
 build-amd64-xsm                 <job status>                 broken
 build-amd64-pvops               <job status>                 broken
 build-i386-pvops              4 host-install(4)        broken REGR. vs. 133846
 build-amd64-pvops             4 host-install(4)        broken REGR. vs. 133846
 build-i386                    4 host-install(4)        broken REGR. vs. 133846
 build-arm64-pvops             4 host-install(4)        broken REGR. vs. 133846
 build-i386-xsm                4 host-install(4)        broken REGR. vs. 133846
 build-amd64                   4 host-install(4)        broken REGR. vs. 133846
 build-amd64-xsm               4 host-install(4)        broken REGR. vs. 133846
 build-arm64-xsm               4 host-install(4)        broken REGR. vs. 133846
 build-arm64                   4 host-install(4)        broken REGR. vs. 133846
 build-armhf-libvirt             <none executed>              queued
 test-armhf-armhf-libvirt        <none executed>              queued
 test-armhf-armhf-libvirt-raw    <none executed>              queued
 build-armhf                   2 hosts-allocate               running
 build-armhf-pvops             2 hosts-allocate               running

Tests which did not succeed, but are not blocking:
 test-amd64-amd64-libvirt-xsm  1 build-check(1)               blocked  n/a
 build-arm64-libvirt           1 build-check(1)               blocked  n/a
 test-arm64-arm64-libvirt      1 build-check(1)               blocked  n/a
 test-amd64-amd64-libvirt-vhd  1 build-check(1)               blocked  n/a
 build-i386-libvirt            1 build-check(1)               blocked  n/a
 test-amd64-amd64-libvirt      1 build-check(1)               blocked  n/a
 test-amd64-i386-libvirt-pair  1 build-check(1)               blocked  n/a
 test-arm64-arm64-libvirt-qcow2  1 build-check(1)               blocked  n/a
 test-amd64-i386-libvirt-xsm   1 build-check(1)               blocked  n/a
 test-amd64-amd64-libvirt-pair  1 build-check(1)               blocked  n/a
 test-amd64-i386-libvirt-qemuu-debianhvm-amd64-xsm 1 build-check(1) blocked n/a
 test-amd64-amd64-libvirt-qemuu-debianhvm-amd64-xsm 1 build-check(1) blocked n/a
 build-amd64-libvirt           1 build-check(1)               blocked  n/a
 test-amd64-i386-libvirt       1 build-check(1)               blocked  n/a
 test-arm64-arm64-libvirt-xsm  1 build-check(1)               blocked  n/a

version targeted for testing:
 libvirt              dc2d82a2b686a908f25c893ca0c4ff98b298c1fe
baseline version:
 libvirt              25e2e4e04f13901b3db903b2301bd11381bdf128

Last test of basis   133846  2019-03-16 02:09:09 Z   44 days
Failing since        133876  2019-03-17 11:33:04 Z   42 days   22 attempts
Testing same since                          (not found)         0 attempts

------------------------------------------------------------
People who touched revisions under test:
  Adrian Brzezinski <[email protected]>
  Adrian Brzezinski <[email protected]>
  Allen, John <[email protected]>
  Andrea Bolognani <[email protected]>
  Cole Robinson <[email protected]>
  Daniel Henrique Barboza <[email protected]>
  Daniel P. Berrangé <[email protected]>
  Daniel Veillard <[email protected]>
  Eric Blake <[email protected]>
  Eric Garver <[email protected]>
  Han Han <[email protected]>
  intrigeri <[email protected]>
  intrigeri <[email protected]>
  Jason Dillaman <[email protected]>
  Jiri Denemark <[email protected]>
  John Allen <[email protected]>
  John Ferlan <[email protected]>
  Julio Faracco <[email protected]>
  Ján Tomko <[email protected]>
  Laine Stump <[email protected]>
  Laszlo Ersek <[email protected]>
  Marc-André Lureau <[email protected]>
  Martin Kletzander <[email protected]>
  Maxim Nestratov <[email protected]>
  Michal Privoznik <[email protected]>
  Nikolay Shirokovskiy <[email protected]>
  Pavel Hrdina <[email protected]>
  Peter Krempa <[email protected]>
  Pino Toscano <[email protected]>
  Roman Bogorodskiy <[email protected]>
  Syed Humaid <[email protected]>

jobs:
 build-amd64-xsm                                              broken  
 build-arm64-xsm                                              broken  
 build-i386-xsm                                               broken  
 build-amd64                                                  broken  
 build-arm64                                                  broken  
 build-armhf                                                  preparing
 build-i386                                                   broken  
 build-amd64-libvirt                                          blocked 
 build-arm64-libvirt                                          blocked 
 build-armhf-libvirt                                          queued  
 build-i386-libvirt                                           blocked 
 build-amd64-pvops                                            broken  
 build-arm64-pvops                                            broken  
 build-armhf-pvops                                            preparing
 build-i386-pvops                                             broken  
 test-amd64-amd64-libvirt-qemuu-debianhvm-amd64-xsm           blocked 
 test-amd64-i386-libvirt-qemuu-debianhvm-amd64-xsm            blocked 
 test-amd64-amd64-libvirt-xsm                                 blocked 
 test-arm64-arm64-libvirt-xsm                                 blocked 
 test-amd64-i386-libvirt-xsm                                  blocked 
 test-amd64-amd64-libvirt                                     blocked 
 test-arm64-arm64-libvirt                                     blocked 
 test-armhf-armhf-libvirt                                     queued  
 test-amd64-i386-libvirt                                      blocked 
 test-amd64-amd64-libvirt-pair                                blocked 
 test-amd64-i386-libvirt-pair                                 blocked 
 test-arm64-arm64-libvirt-qcow2                               blocked 
 test-armhf-armhf-libvirt-raw                                 queued  
 test-amd64-amd64-libvirt-vhd                                 blocked 


------------------------------------------------------------
sg-report-flight on osstest.test-lab.xenproject.org
logs: /home/logs/logs
images: /home/logs/images

Logs, config files, etc. are available at
    http://logs.test-lab.xenproject.org/osstest/logs

Explanation of these reports, and of osstest in general, is at
    http://xenbits.xen.org/gitweb/?p=osstest.git;a=blob;f=README.email;hb=master
    http://xenbits.xen.org/gitweb/?p=osstest.git;a=blob;f=README;hb=master

Test harness code can be found at
    http://xenbits.xen.org/gitweb?p=osstest.git;a=summary

broken-job build-amd64 broken
broken-job build-i386 broken
broken-job build-armhf-libvirt queued
broken-job build-i386-pvops broken
broken-job test-armhf-armhf-libvirt queued
broken-job test-armhf-armhf-libvirt-raw queued
broken-job build-arm64-pvops broken
broken-job build-i386-xsm broken
broken-job build-arm64-xsm broken
broken-job build-arm64 broken
broken-job build-amd64-xsm broken
broken-job build-amd64-pvops broken
broken-step build-i386-pvops host-install(4)
broken-step build-amd64-pvops host-install(4)
broken-step build-i386 host-install(4)
broken-step build-arm64-pvops host-install(4)
broken-step build-i386-xsm host-install(4)
broken-step build-amd64 host-install(4)
broken-step build-amd64-xsm host-install(4)
broken-step build-arm64-xsm host-install(4)
broken-step build-arm64 host-install(4)

Not pushing.

(No revision log; it would be 8214 lines long.)

_______________________________________________
Xen-devel mailing list
[email protected]
https://lists.xenproject.org/mailman/listinfo/xen-devel

Reply via email to