flight 135401 qemu-upstream-4.12-testing running [real] http://logs.test-lab.xenproject.org/osstest/logs/135401/
Failures and problems with tests :-( Tests which did not succeed and are blocking, including tests which could not be run: build-arm64 <job status> broken build-arm64-pvops <job status> broken build-arm64-pvops 4 host-install(4) broken REGR. vs. 133734 build-arm64 4 host-install(4) broken REGR. vs. 133734 test-amd64-amd64-xl-pvhv2-intel <none executed> queued test-amd64-i386-qemuu-rhel6hvm-intel <none executed> queued test-amd64-amd64-i386-pvgrub <none executed> queued test-armhf-armhf-xl-credit1 <none executed> queued test-amd64-i386-xl-qemuu-debianhvm-amd64 <none executed> queued test-amd64-amd64-qemuu-nested-intel <none executed> queued test-amd64-amd64-xl-qemuu-debianhvm-amd64 <none executed> queued test-amd64-i386-freebsd10-i386 <none executed> queued test-amd64-amd64-xl-pvshim <none executed> queued test-amd64-amd64-libvirt <none executed> queued test-amd64-i386-xl-qemuu-ovmf-amd64 <none executed> queued test-armhf-armhf-xl-arndale <none executed> queued test-amd64-i386-xl-qemuu-debianhvm-i386-xsm <none executed> queued test-amd64-amd64-xl-qemuu-debianhvm-amd64-shadow <none executed> queued test-armhf-armhf-xl-multivcpu <none executed> queued test-armhf-armhf-libvirt-raw <none executed> queued test-arm64-arm64-libvirt-xsm <none executed> queued test-amd64-amd64-xl-qemuu-win10-i386 <none executed> queued test-armhf-armhf-xl <none executed> queued test-amd64-i386-xl-qemuu-ws16-amd64 <none executed> queued test-amd64-i386-xl-pvshim <none executed> queued test-amd64-i386-xl-xsm <none executed> queued test-amd64-i386-xl-raw <none executed> queued test-amd64-amd64-xl-qemuu-dmrestrict-amd64-dmrestrict <none executed> queued test-amd64-i386-libvirt-pair <none executed> queued test-amd64-i386-xl-qemuu-debianhvm-amd64-shadow <none executed> queued test-amd64-amd64-xl-qcow2 <none executed> queued test-amd64-amd64-xl-qemuu-ws16-amd64 <none executed> queued test-amd64-amd64-libvirt-xsm <none executed> queued test-amd64-amd64-xl-multivcpu <none executed> queued test-amd64-i386-xl-qemuu-win7-amd64 <none executed> queued test-amd64-amd64-xl-xsm <none executed> queued test-arm64-arm64-xl-xsm <none executed> queued test-amd64-amd64-libvirt-qemuu-debianhvm-amd64-xsm <none executed> queued test-amd64-i386-libvirt-qemuu-debianhvm-amd64-xsm <none executed> queued build-amd64-libvirt <none executed> queued test-amd64-amd64-xl-rtds <none executed> queued test-amd64-amd64-xl-credit2 <none executed> queued test-amd64-amd64-libvirt-vhd <none executed> queued test-armhf-armhf-xl-rtds <none executed> queued test-amd64-i386-qemuu-rhel6hvm-amd <none executed> queued test-armhf-armhf-libvirt <none executed> queued test-amd64-amd64-qemuu-nested-amd <none executed> queued test-amd64-i386-xl-qemuu-dmrestrict-amd64-dmrestrict <none executed> queued test-amd64-amd64-xl <none executed> queued build-armhf-libvirt <none executed> queued test-amd64-amd64-pair <none executed> queued test-amd64-i386-pair <none executed> queued test-amd64-i386-libvirt-xsm <none executed> queued build-i386-libvirt <none executed> queued test-armhf-armhf-xl-credit2 <none executed> queued test-amd64-amd64-xl-shadow <none executed> queued test-amd64-amd64-xl-qemuu-win7-amd64 <none executed> queued test-armhf-armhf-xl-cubietruck <none executed> queued test-amd64-amd64-xl-qemuu-ovmf-amd64 <none executed> queued test-amd64-amd64-xl-pvhv2-amd <none executed> queued test-amd64-i386-xl-shadow <none executed> queued test-armhf-armhf-xl-vhd <none executed> queued test-amd64-amd64-xl-qemuu-debianhvm-i386-xsm <none executed> queued test-amd64-amd64-pygrub <none executed> queued test-amd64-amd64-libvirt-pair <none executed> queued test-amd64-amd64-xl-credit1 <none executed> queued test-amd64-i386-freebsd10-amd64 <none executed> queued test-amd64-amd64-amd64-pvgrub <none executed> queued test-amd64-i386-xl <none executed> queued test-amd64-i386-libvirt <none executed> queued test-amd64-i386-xl-qemuu-win10-i386 <none executed> queued build-amd64 2 hosts-allocate running build-i386-xsm 2 hosts-allocate running build-armhf-pvops 2 hosts-allocate running build-armhf 2 hosts-allocate running build-amd64-pvops 2 hosts-allocate running build-amd64-xsm 2 hosts-allocate running build-arm64-xsm 4 host-install(4) running build-i386 4 host-install(4) running build-arm64-xsm 3 syslog-server running build-i386-pvops 4 host-install(4) running build-i386-pvops 3 syslog-server running build-i386 3 syslog-server running Tests which did not succeed, but are not blocking: test-arm64-arm64-xl-credit1 1 build-check(1) blocked n/a test-arm64-arm64-xl 1 build-check(1) blocked n/a build-arm64-libvirt 1 build-check(1) blocked n/a test-arm64-arm64-xl-credit2 1 build-check(1) blocked n/a version targeted for testing: qemuu 8023a62081ffbe3f734019076ec1a2b4213142bb baseline version: qemuu de5b678ca4dcdfa83e322491d478d66df56c1986 Last test of basis 133734 2019-03-12 07:09:17 Z 48 days Testing same since 134859 2019-04-16 10:09:05 Z 13 days 5 attempts ------------------------------------------------------------ People who touched revisions under test: Alberto Garcia <[email protected]> Alex Bennée <[email protected]> Anthony PERARD <[email protected]> BALATON Zoltan <[email protected]> Bharata B Rao <[email protected]> Christian Borntraeger <[email protected]> Corey Minyard <[email protected]> Cornelia Huck <[email protected]> Daniel Henrique Barboza <[email protected]> Daniel P. Berrangé <[email protected]> David Gibson <[email protected]> Denis V. Lunev <[email protected]> Dr. David Alan Gilbert <[email protected]> Eduardo Habkost <[email protected]> Eduardo Otubo <[email protected]> Eric Blake <[email protected]> Fam Zheng <[email protected]> Forrest Liu <[email protected]> Gerd Hoffmann <[email protected]> Greg Kurz <[email protected]> Igor Mammedov <[email protected]> Ilya Maximets <[email protected]> Janosch Frank <[email protected]> Jason Wang <[email protected]> Jeff Cody <[email protected]> Jia He <[email protected]> John Snow <[email protected]> Kamal Heib <[email protected]> Kevin Wolf <[email protected]> Laszlo Ersek <[email protected]> Laurent Desnogues <[email protected]> Laurent Vivier <[email protected]> Leonardo Bras <[email protected]> Li Qiang <[email protected]> Liam Merwick <[email protected]> liujunjie <[email protected]> Marc-André Lureau <[email protected]> Marcel Apfelbaum <[email protected]> Mark Cave-Ayland <[email protected]> Markus Armbruster <[email protected]> Max Filippov <[email protected]> Max Reitz <[email protected]> Michael Roth <[email protected]> Michael S. Tsirkin <[email protected]> Niels de Vos <[email protected]> Paolo Bonzini <[email protected]> Paul A. Clarke <[email protected]> Peter Maydell <[email protected]> Peter Wu <[email protected]> Peter Xu <[email protected]> Philippe Mathieu-Daudé <[email protected]> Prasad J Pandit <[email protected]> Prasad Singamsetty <[email protected]> Prasanna Kumar Kalever <[email protected]> Richard Henderson <[email protected]> Richard W.M. Jones <[email protected]> Roger Pau Monne <[email protected]> Roger Pau Monné <[email protected]> Samuel Thibault <[email protected]> Stefan Berger <[email protected]> Stefan Berger <[email protected]> Thomas Huth <[email protected]> Tony Garnock-Jones <[email protected]> Tony Garnock-Jones <[email protected]> Vladimir Sementsov-Ogievskiy <[email protected]> William Bowling <[email protected]> yuchenlin <[email protected]> Yury Kotov <[email protected]> Zheng Xiang <[email protected]> Zheng Xiang <[email protected]> jobs: build-amd64-xsm preparing build-arm64-xsm running build-i386-xsm preparing build-amd64 preparing build-arm64 broken build-armhf preparing build-i386 running build-amd64-libvirt queued build-arm64-libvirt blocked build-armhf-libvirt queued build-i386-libvirt queued build-amd64-pvops preparing build-arm64-pvops broken build-armhf-pvops preparing build-i386-pvops running test-amd64-amd64-xl queued test-arm64-arm64-xl blocked test-armhf-armhf-xl queued test-amd64-i386-xl queued test-amd64-amd64-libvirt-qemuu-debianhvm-amd64-xsm queued test-amd64-i386-libvirt-qemuu-debianhvm-amd64-xsm queued test-amd64-amd64-xl-qemuu-debianhvm-i386-xsm queued test-amd64-i386-xl-qemuu-debianhvm-i386-xsm queued test-amd64-amd64-libvirt-xsm queued test-arm64-arm64-libvirt-xsm queued test-amd64-i386-libvirt-xsm queued test-amd64-amd64-xl-xsm queued test-arm64-arm64-xl-xsm queued test-amd64-i386-xl-xsm queued test-amd64-amd64-qemuu-nested-amd queued test-amd64-amd64-xl-pvhv2-amd queued test-amd64-i386-qemuu-rhel6hvm-amd queued test-amd64-amd64-xl-qemuu-debianhvm-amd64 queued test-amd64-i386-xl-qemuu-debianhvm-amd64 queued test-amd64-i386-freebsd10-amd64 queued test-amd64-amd64-xl-qemuu-ovmf-amd64 queued test-amd64-i386-xl-qemuu-ovmf-amd64 queued test-amd64-amd64-xl-qemuu-win7-amd64 queued test-amd64-i386-xl-qemuu-win7-amd64 queued test-amd64-amd64-xl-qemuu-ws16-amd64 queued test-amd64-i386-xl-qemuu-ws16-amd64 queued test-armhf-armhf-xl-arndale queued test-amd64-amd64-xl-credit1 queued test-arm64-arm64-xl-credit1 blocked test-armhf-armhf-xl-credit1 queued test-amd64-amd64-xl-credit2 queued test-arm64-arm64-xl-credit2 blocked test-armhf-armhf-xl-credit2 queued test-armhf-armhf-xl-cubietruck queued test-amd64-amd64-xl-qemuu-dmrestrict-amd64-dmrestrict queued test-amd64-i386-xl-qemuu-dmrestrict-amd64-dmrestrict queued test-amd64-i386-freebsd10-i386 queued test-amd64-amd64-xl-qemuu-win10-i386 queued test-amd64-i386-xl-qemuu-win10-i386 queued test-amd64-amd64-qemuu-nested-intel queued test-amd64-amd64-xl-pvhv2-intel queued test-amd64-i386-qemuu-rhel6hvm-intel queued test-amd64-amd64-libvirt queued test-armhf-armhf-libvirt queued test-amd64-i386-libvirt queued test-amd64-amd64-xl-multivcpu queued test-armhf-armhf-xl-multivcpu queued test-amd64-amd64-pair queued test-amd64-i386-pair queued test-amd64-amd64-libvirt-pair queued test-amd64-i386-libvirt-pair queued test-amd64-amd64-amd64-pvgrub queued test-amd64-amd64-i386-pvgrub queued test-amd64-amd64-xl-pvshim queued test-amd64-i386-xl-pvshim queued test-amd64-amd64-pygrub queued test-amd64-amd64-xl-qcow2 queued test-armhf-armhf-libvirt-raw queued test-amd64-i386-xl-raw queued test-amd64-amd64-xl-rtds queued test-armhf-armhf-xl-rtds queued test-amd64-amd64-xl-qemuu-debianhvm-amd64-shadow queued test-amd64-i386-xl-qemuu-debianhvm-amd64-shadow queued test-amd64-amd64-xl-shadow queued test-amd64-i386-xl-shadow queued test-amd64-amd64-libvirt-vhd queued test-armhf-armhf-xl-vhd queued ------------------------------------------------------------ sg-report-flight on osstest.test-lab.xenproject.org logs: /home/logs/logs images: /home/logs/images Logs, config files, etc. are available at http://logs.test-lab.xenproject.org/osstest/logs Explanation of these reports, and of osstest in general, is at http://xenbits.xen.org/gitweb/?p=osstest.git;a=blob;f=README.email;hb=master http://xenbits.xen.org/gitweb/?p=osstest.git;a=blob;f=README;hb=master Test harness code can be found at http://xenbits.xen.org/gitweb?p=osstest.git;a=summary broken-job test-amd64-amd64-xl-pvhv2-intel queued broken-job test-amd64-i386-qemuu-rhel6hvm-intel queued broken-job test-amd64-amd64-i386-pvgrub queued broken-job test-armhf-armhf-xl-credit1 queued broken-job test-amd64-i386-xl-qemuu-debianhvm-amd64 queued broken-job test-amd64-amd64-qemuu-nested-intel queued broken-job test-amd64-amd64-xl-qemuu-debianhvm-amd64 queued broken-job test-amd64-i386-freebsd10-i386 queued broken-job test-amd64-amd64-xl-pvshim queued broken-job test-amd64-amd64-libvirt queued broken-job test-amd64-i386-xl-qemuu-ovmf-amd64 queued broken-job test-armhf-armhf-xl-arndale queued broken-job test-amd64-i386-xl-qemuu-debianhvm-i386-xsm queued broken-job test-amd64-amd64-xl-qemuu-debianhvm-amd64-shadow queued broken-job test-armhf-armhf-xl-multivcpu queued broken-job test-armhf-armhf-libvirt-raw queued broken-job test-arm64-arm64-libvirt-xsm queued broken-job test-amd64-amd64-xl-qemuu-win10-i386 queued broken-job test-armhf-armhf-xl queued broken-job test-amd64-i386-xl-qemuu-ws16-amd64 queued broken-job test-amd64-i386-xl-pvshim queued broken-job test-amd64-i386-xl-xsm queued broken-job test-amd64-i386-xl-raw queued broken-job test-amd64-amd64-xl-qemuu-dmrestrict-amd64-dmrestrict queued broken-job test-amd64-i386-libvirt-pair queued broken-job test-amd64-i386-xl-qemuu-debianhvm-amd64-shadow queued broken-job test-amd64-amd64-xl-qcow2 queued broken-job test-amd64-amd64-xl-qemuu-ws16-amd64 queued broken-job test-amd64-amd64-libvirt-xsm queued broken-job test-amd64-amd64-xl-multivcpu queued broken-job test-amd64-i386-xl-qemuu-win7-amd64 queued broken-job build-arm64 broken broken-job test-amd64-amd64-xl-xsm queued broken-job test-arm64-arm64-xl-xsm queued broken-job test-amd64-amd64-libvirt-qemuu-debianhvm-amd64-xsm queued broken-job test-amd64-i386-libvirt-qemuu-debianhvm-amd64-xsm queued broken-job build-amd64-libvirt queued broken-job test-amd64-amd64-xl-rtds queued broken-job test-amd64-amd64-xl-credit2 queued broken-job test-amd64-amd64-libvirt-vhd queued broken-job test-armhf-armhf-xl-rtds queued broken-job test-amd64-i386-qemuu-rhel6hvm-amd queued broken-job test-armhf-armhf-libvirt queued broken-job test-amd64-amd64-qemuu-nested-amd queued broken-job test-amd64-i386-xl-qemuu-dmrestrict-amd64-dmrestrict queued broken-job test-amd64-amd64-xl queued broken-job build-armhf-libvirt queued broken-job test-amd64-amd64-pair queued broken-job test-amd64-i386-pair queued broken-job build-arm64-pvops broken broken-job test-amd64-i386-libvirt-xsm queued broken-job build-i386-libvirt queued broken-job test-armhf-armhf-xl-credit2 queued broken-job test-amd64-amd64-xl-shadow queued broken-job test-amd64-amd64-xl-qemuu-win7-amd64 queued broken-job test-armhf-armhf-xl-cubietruck queued broken-job test-amd64-amd64-xl-qemuu-ovmf-amd64 queued broken-job test-amd64-amd64-xl-pvhv2-amd queued broken-job test-amd64-i386-xl-shadow queued broken-job test-armhf-armhf-xl-vhd queued broken-job test-amd64-amd64-xl-qemuu-debianhvm-i386-xsm queued broken-job test-amd64-amd64-pygrub queued broken-job test-amd64-amd64-libvirt-pair queued broken-job test-amd64-amd64-xl-credit1 queued broken-job test-amd64-i386-freebsd10-amd64 queued broken-job test-amd64-amd64-amd64-pvgrub queued broken-job test-amd64-i386-xl queued broken-job test-amd64-i386-libvirt queued broken-job test-amd64-i386-xl-qemuu-win10-i386 queued broken-step build-arm64-pvops host-install(4) broken-step build-arm64 host-install(4) Not pushing. (No revision log; it would be 2874 lines long.) _______________________________________________ Xen-devel mailing list [email protected] https://lists.xenproject.org/mailman/listinfo/xen-devel
